BEGIN:VCALENDAR
VERSION:2.0
PRODID:-//tandcschool.org//NONSGML kigkonsult.se iCalcreator 2.30.10//
CALSCALE:GREGORIAN
METHOD:PUBLISH
UID:d84a699e-6c8e-4e0b-8c90-d33650779ae3
X-WR-CALDESC:
X-WR-RELCALID:5905d52ebc9f3311283f062b48241090
X-WR-TIMEZONE:America/Chicago
BEGIN:VTIMEZONE
TZID:America/Chicago
BEGIN:STANDARD
TZNAME:CST
DTSTART:20231105T020000
TZOFFSETFROM:-0500
TZOFFSETTO:-0600
RDATE:20241103T020000
END:STANDARD
BEGIN:DAYLIGHT
TZNAME:CDT
DTSTART:20230312T020000
TZOFFSETFROM:-0600
TZOFFSETTO:-0500
RDATE:20240310T020000
RDATE:20250309T020000
END:DAYLIGHT
END:VTIMEZONE
BEGIN:VEVENT
UID:95f378b3-22b8-42c5-9e94-5cd92c213f25
DTSTAMP:20260424T100813Z
DESCRIPTION:
DTSTART;TZID=America/Chicago:20231108T150000
DTEND;TZID=America/Chicago:20231108T154500
LOCATION:
SUMMARY:MS Art Club
END:VEVENT
END:VCALENDAR
