BEGIN:VCALENDAR
VERSION:2.0
PRODID:-//tandcschool.org//NONSGML kigkonsult.se iCalcreator 2.30.10//
CALSCALE:GREGORIAN
METHOD:PUBLISH
UID:6730b972-bd4e-4b60-9cd2-c4b155c6d14d
X-WR-CALDESC:
X-WR-RELCALID:ddb1285e19f98a84e2e54ee4a000a7d9
X-WR-TIMEZONE:America/Chicago
BEGIN:VTIMEZONE
TZID:America/Chicago
BEGIN:STANDARD
TZNAME:CST
DTSTART:20231105T020000
TZOFFSETFROM:-0500
TZOFFSETTO:-0600
RDATE:20241103T020000
END:STANDARD
BEGIN:DAYLIGHT
TZNAME:CDT
DTSTART:20230312T020000
TZOFFSETFROM:-0600
TZOFFSETTO:-0500
RDATE:20240310T020000
RDATE:20250309T020000
END:DAYLIGHT
END:VTIMEZONE
BEGIN:VEVENT
UID:054f2e21-c3a5-4c2b-98ea-9e040fef6bc8
DTSTAMP:20260424T100752Z
DESCRIPTION:
DTSTART;TZID=America/Chicago:20231108T000000
DTEND;TZID=America/Chicago:20231108T235900
LOCATION:
SUMMARY:End of First Trimester (LS)
END:VEVENT
END:VCALENDAR
