BEGIN:VCALENDAR
VERSION:2.0
PRODID:-//tandcschool.org//NONSGML kigkonsult.se iCalcreator 2.30.10//
CALSCALE:GREGORIAN
METHOD:PUBLISH
UID:3a3be7e0-56ec-424b-9462-5ec5fe41f58c
X-WR-CALDESC:
X-WR-RELCALID:fa32d7635e334b0b71ad608aa000d947
X-WR-TIMEZONE:America/Chicago
BEGIN:VTIMEZONE
TZID:America/Chicago
BEGIN:STANDARD
TZNAME:CST
DTSTART:20231105T020000
TZOFFSETFROM:-0500
TZOFFSETTO:-0600
RDATE:20241103T020000
END:STANDARD
BEGIN:DAYLIGHT
TZNAME:CDT
DTSTART:20230312T020000
TZOFFSETFROM:-0600
TZOFFSETTO:-0500
RDATE:20240310T020000
RDATE:20250309T020000
END:DAYLIGHT
END:VTIMEZONE
BEGIN:VEVENT
UID:bc4b7625-725e-413c-8428-c3d781a9a0da
DTSTAMP:20260424T103556Z
DESCRIPTION:
DTSTART;TZID=America/Chicago:20231107T120000
DTEND;TZID=America/Chicago:20231107T150000
LOCATION:
SUMMARY:TCC Sign Up For Tulsa Achieves
END:VEVENT
END:VCALENDAR
