BEGIN:VCALENDAR
VERSION:2.0
PRODID:-//tandcschool.org//NONSGML kigkonsult.se iCalcreator 2.30.10//
CALSCALE:GREGORIAN
METHOD:PUBLISH
UID:54c34cff-c470-47b8-b43d-deb7de47584c
X-WR-CALDESC:
X-WR-RELCALID:939fa4a95c1d67d35e2830bd025a7ae5
X-WR-TIMEZONE:America/Chicago
BEGIN:VTIMEZONE
TZID:America/Chicago
BEGIN:STANDARD
TZNAME:CST
DTSTART:20231105T020000
TZOFFSETFROM:-0500
TZOFFSETTO:-0600
RDATE:20241103T020000
END:STANDARD
BEGIN:DAYLIGHT
TZNAME:CDT
DTSTART:20230312T020000
TZOFFSETFROM:-0600
TZOFFSETTO:-0500
RDATE:20240310T020000
RDATE:20250309T020000
END:DAYLIGHT
END:VTIMEZONE
BEGIN:VEVENT
UID:83b21a33-37f5-4bc3-a724-b1713ebae1e1
DTSTAMP:20260424T100924Z
DESCRIPTION:
DTSTART;TZID=America/Chicago:20231107T150000
DTEND;TZID=America/Chicago:20231107T154500
LOCATION:
SUMMARY:MS Lego Club
END:VEVENT
END:VCALENDAR
