BEGIN:VCALENDAR
VERSION:2.0
PRODID:-//tandcschool.org//NONSGML kigkonsult.se iCalcreator 2.30.10//
CALSCALE:GREGORIAN
METHOD:PUBLISH
UID:cc39fdeb-198b-4db5-aa1a-a83c8eee3867
X-WR-CALDESC:
X-WR-RELCALID:ee129368480187f54b071b68db907f12
X-WR-TIMEZONE:America/Chicago
BEGIN:VTIMEZONE
TZID:America/Chicago
BEGIN:STANDARD
TZNAME:CST
DTSTART:20231105T020000
TZOFFSETFROM:-0500
TZOFFSETTO:-0600
RDATE:20241103T020000
END:STANDARD
BEGIN:DAYLIGHT
TZNAME:CDT
DTSTART:20230312T020000
TZOFFSETFROM:-0600
TZOFFSETTO:-0500
RDATE:20240310T020000
RDATE:20250309T020000
END:DAYLIGHT
END:VTIMEZONE
BEGIN:VEVENT
UID:1417827a-f7ef-46f5-a481-d4a7cc69f811
DTSTAMP:20260424T100556Z
DESCRIPTION:
DTSTART;TZID=America/Chicago:20231107T050000
DTEND;TZID=America/Chicago:20231107T050001
LOCATION:
SUMMARY:Book Fair Student Preview
END:VEVENT
END:VCALENDAR
