BEGIN:VCALENDAR
VERSION:2.0
PRODID:-//tandcschool.org//NONSGML kigkonsult.se iCalcreator 2.30.10//
CALSCALE:GREGORIAN
METHOD:PUBLISH
UID:5e7d3257-5350-449b-b17c-5cb4e95f296f
X-WR-CALDESC:
X-WR-RELCALID:90342c3cc0f12b5b1a1412a35c9dde60
X-WR-TIMEZONE:America/Chicago
BEGIN:VTIMEZONE
TZID:America/Chicago
BEGIN:STANDARD
TZNAME:CST
DTSTART:20231105T020000
TZOFFSETFROM:-0500
TZOFFSETTO:-0600
RDATE:20241103T020000
END:STANDARD
BEGIN:DAYLIGHT
TZNAME:CDT
DTSTART:20230312T020000
TZOFFSETFROM:-0600
TZOFFSETTO:-0500
RDATE:20240310T020000
RDATE:20250309T020000
END:DAYLIGHT
END:VTIMEZONE
BEGIN:VEVENT
UID:b927dc90-5bbe-4bd2-9c17-65d48a6d27a7
DTSTAMP:20260424T100530Z
DESCRIPTION:
DTSTART;TZID=America/Chicago:20231107T150000
DTEND;TZID=America/Chicago:20231107T163000
LOCATION:
SUMMARY:Basketball Practice
END:VEVENT
END:VCALENDAR
