BEGIN:VCALENDAR
VERSION:2.0
PRODID:-//tandcschool.org//NONSGML kigkonsult.se iCalcreator 2.30.10//
CALSCALE:GREGORIAN
METHOD:PUBLISH
UID:408fb1c1-e4c0-460d-8bc7-f11369ff6894
X-WR-CALDESC:
X-WR-RELCALID:3277cd9a9ecd25560f372ee549b7bbbf
X-WR-TIMEZONE:America/Chicago
BEGIN:VTIMEZONE
TZID:America/Chicago
BEGIN:STANDARD
TZNAME:CST
DTSTART:20231105T020000
TZOFFSETFROM:-0500
TZOFFSETTO:-0600
RDATE:20241103T020000
END:STANDARD
BEGIN:DAYLIGHT
TZNAME:CDT
DTSTART:20230312T020000
TZOFFSETFROM:-0600
TZOFFSETTO:-0500
RDATE:20240310T020000
RDATE:20250309T020000
END:DAYLIGHT
END:VTIMEZONE
BEGIN:VEVENT
UID:759c3fa5-6e51-478d-8b7e-d99fb1751728
DTSTAMP:20260424T101616Z
DESCRIPTION:
DTSTART;TZID=America/Chicago:20231107T152000
DTEND;TZID=America/Chicago:20231107T160000
LOCATION:
SUMMARY:LS Lego Club
END:VEVENT
END:VCALENDAR
