BEGIN:VCALENDAR
VERSION:2.0
PRODID:-//tandcschool.org//NONSGML kigkonsult.se iCalcreator 2.30.10//
CALSCALE:GREGORIAN
METHOD:PUBLISH
UID:ce0ae4dd-7153-4ef2-9633-a60ce6c818e3
X-WR-CALDESC:
X-WR-RELCALID:2976fc90a0370ca63d287c58bcd822b7
X-WR-TIMEZONE:America/Chicago
BEGIN:VTIMEZONE
TZID:America/Chicago
BEGIN:STANDARD
TZNAME:CST
DTSTART:20221106T020000
TZOFFSETFROM:-0500
TZOFFSETTO:-0600
RDATE:20231105T020000
RDATE:20241103T020000
END:STANDARD
BEGIN:DAYLIGHT
TZNAME:CDT
DTSTART:20230312T020000
TZOFFSETFROM:-0600
TZOFFSETTO:-0500
RDATE:20240310T020000
RDATE:20250309T020000
END:DAYLIGHT
END:VTIMEZONE
BEGIN:VEVENT
UID:2043c55c-63e6-42ef-879c-1a193f15a40e
DTSTAMP:20260424T101733Z
DESCRIPTION:
DTSTART;TZID=America/Chicago:20231106T050000
DTEND;TZID=America/Chicago:20231106T050001
LOCATION:
SUMMARY:Rib Sales Fundraiser Starts
END:VEVENT
END:VCALENDAR
