BEGIN:VCALENDAR
VERSION:2.0
PRODID:-//tandcschool.org//NONSGML kigkonsult.se iCalcreator 2.30.10//
CALSCALE:GREGORIAN
METHOD:PUBLISH
UID:716059f9-96f9-47da-8c6f-82d08c6988f9
X-WR-CALDESC:
X-WR-RELCALID:3368c931c8ea2a51b2098b2a2f08471e
X-WR-TIMEZONE:America/Chicago
BEGIN:VTIMEZONE
TZID:America/Chicago
BEGIN:STANDARD
TZNAME:CST
DTSTART:20221106T020000
TZOFFSETFROM:-0500
TZOFFSETTO:-0600
RDATE:20231105T020000
RDATE:20241103T020000
END:STANDARD
BEGIN:DAYLIGHT
TZNAME:CDT
DTSTART:20230312T020000
TZOFFSETFROM:-0600
TZOFFSETTO:-0500
RDATE:20240310T020000
RDATE:20250309T020000
END:DAYLIGHT
END:VTIMEZONE
BEGIN:VEVENT
UID:b20f1e9c-abba-418d-ad79-7ba399876cf3
DTSTAMP:20260424T102657Z
DESCRIPTION:
DTSTART;TZID=America/Chicago:20231106T152000
DTEND;TZID=America/Chicago:20231106T160000
LOCATION:
SUMMARY:LS Art Club
END:VEVENT
END:VCALENDAR
