BEGIN:VCALENDAR
VERSION:2.0
PRODID:-//tandcschool.org//NONSGML kigkonsult.se iCalcreator 2.30.10//
CALSCALE:GREGORIAN
METHOD:PUBLISH
UID:a71ca401-493a-4502-a987-1b33d4bd53b0
X-WR-CALDESC:
X-WR-RELCALID:ca1cc738d1106922cd9c38d3f6623be9
X-WR-TIMEZONE:America/Chicago
BEGIN:VTIMEZONE
TZID:America/Chicago
BEGIN:STANDARD
TZNAME:CST
DTSTART:20221106T020000
TZOFFSETFROM:-0500
TZOFFSETTO:-0600
RDATE:20231105T020000
RDATE:20241103T020000
END:STANDARD
BEGIN:DAYLIGHT
TZNAME:CDT
DTSTART:20230312T020000
TZOFFSETFROM:-0600
TZOFFSETTO:-0500
RDATE:20240310T020000
RDATE:20250309T020000
END:DAYLIGHT
END:VTIMEZONE
BEGIN:VEVENT
UID:65dc6b24-20f8-4109-b73f-88bb966c0f8c
DTSTAMP:20260424T100616Z
DESCRIPTION:
DTSTART;TZID=America/Chicago:20231106T080000
DTEND;TZID=America/Chicago:20231106T090000
LOCATION:
SUMMARY:Book Fair Set Up
END:VEVENT
END:VCALENDAR
