BEGIN:VCALENDAR
VERSION:2.0
PRODID:-//tandcschool.org//NONSGML kigkonsult.se iCalcreator 2.30.10//
CALSCALE:GREGORIAN
METHOD:PUBLISH
UID:dd4b674f-6de6-4e09-b2f1-be6de66f4e5d
X-WR-CALDESC:
X-WR-RELCALID:e53618829d87950776436b5a773d6813
X-WR-TIMEZONE:America/Chicago
BEGIN:VTIMEZONE
TZID:America/Chicago
BEGIN:STANDARD
TZNAME:CST
DTSTART:20221106T020000
TZOFFSETFROM:-0500
TZOFFSETTO:-0600
RDATE:20231105T020000
RDATE:20241103T020000
END:STANDARD
BEGIN:DAYLIGHT
TZNAME:CDT
DTSTART:20230312T020000
TZOFFSETFROM:-0600
TZOFFSETTO:-0500
RDATE:20240310T020000
RDATE:20250309T020000
END:DAYLIGHT
END:VTIMEZONE
BEGIN:VEVENT
UID:51d81202-0e7c-4db9-9878-ba87b7958a15
DTSTAMP:20260424T103223Z
DESCRIPTION:
DTSTART;TZID=America/Chicago:20231106T150000
DTEND;TZID=America/Chicago:20231106T154500
LOCATION:
SUMMARY:Bible Club
END:VEVENT
END:VCALENDAR
