BEGIN:VCALENDAR
VERSION:2.0
PRODID:-//tandcschool.org//NONSGML kigkonsult.se iCalcreator 2.30.10//
CALSCALE:GREGORIAN
METHOD:PUBLISH
UID:430fa50a-2332-4a59-8636-cb933f9cf4ae
X-WR-CALDESC:
X-WR-RELCALID:83d331631b5e07297734aaa20eec48f4
X-WR-TIMEZONE:America/Chicago
BEGIN:VTIMEZONE
TZID:America/Chicago
BEGIN:STANDARD
TZNAME:CST
DTSTART:20221106T020000
TZOFFSETFROM:-0500
TZOFFSETTO:-0600
RDATE:20231105T020000
RDATE:20241103T020000
END:STANDARD
BEGIN:DAYLIGHT
TZNAME:CDT
DTSTART:20230312T020000
TZOFFSETFROM:-0600
TZOFFSETTO:-0500
RDATE:20240310T020000
RDATE:20250309T020000
END:DAYLIGHT
END:VTIMEZONE
BEGIN:VEVENT
UID:521a049e-1263-48c7-a41d-d715a1f06730
DTSTAMP:20260424T101938Z
DESCRIPTION:
DTSTART;TZID=America/Chicago:20231106T150000
DTEND;TZID=America/Chicago:20231106T154500
LOCATION:
SUMMARY:Chess Club
END:VEVENT
END:VCALENDAR
