BEGIN:VCALENDAR
VERSION:2.0
PRODID:-//tandcschool.org//NONSGML kigkonsult.se iCalcreator 2.30.10//
CALSCALE:GREGORIAN
METHOD:PUBLISH
UID:dc03e64e-781f-4a25-b9a9-62158d33c11a
X-WR-CALDESC:Collecting for Eastern OK Food Bank
X-WR-RELCALID:74ca4d4adb8ab925953da1e03d231155
X-WR-TIMEZONE:America/Chicago
BEGIN:VTIMEZONE
TZID:America/Chicago
BEGIN:STANDARD
TZNAME:CST
DTSTART:20221106T020000
TZOFFSETFROM:-0500
TZOFFSETTO:-0600
RDATE:20231105T020000
RDATE:20241103T020000
END:STANDARD
BEGIN:DAYLIGHT
TZNAME:CDT
DTSTART:20230312T020000
TZOFFSETFROM:-0600
TZOFFSETTO:-0500
RDATE:20240310T020000
RDATE:20250309T020000
END:DAYLIGHT
END:VTIMEZONE
BEGIN:VEVENT
UID:156bc887-dfc5-415e-b148-e4c26ba753fd
DTSTAMP:20260424T102507Z
DESCRIPTION:Collecting for Eastern OK Food Bank
DTSTART;TZID=America/Chicago:20231105T050000
DTEND;TZID=America/Chicago:20231105T050001
LOCATION:
SUMMARY:November 8 Habits of the Heart: Dependability
END:VEVENT
END:VCALENDAR
