BEGIN:VCALENDAR
VERSION:2.0
PRODID:-//tandcschool.org//NONSGML kigkonsult.se iCalcreator 2.30.10//
CALSCALE:GREGORIAN
METHOD:PUBLISH
UID:c71ab737-b1cb-45de-af04-70ce7b34d4e8
X-WR-CALDESC:No School for Students
X-WR-RELCALID:4eeba52d93219c87dadabbb84ef1ffb4
X-WR-TIMEZONE:America/Chicago
BEGIN:VTIMEZONE
TZID:America/Chicago
BEGIN:STANDARD
TZNAME:CST
DTSTART:20221106T020000
TZOFFSETFROM:-0500
TZOFFSETTO:-0600
RDATE:20231105T020000
RDATE:20241103T020000
END:STANDARD
BEGIN:DAYLIGHT
TZNAME:CDT
DTSTART:20230312T020000
TZOFFSETFROM:-0600
TZOFFSETTO:-0500
RDATE:20240310T020000
RDATE:20250309T020000
END:DAYLIGHT
END:VTIMEZONE
BEGIN:VEVENT
UID:365b4652-e773-4915-84cc-c8c1dca3c9e4
DTSTAMP:20260424T100407Z
DESCRIPTION:No School for Students
DTSTART;TZID=America/Chicago:20231103T050000
DTEND;TZID=America/Chicago:20231103T050001
LOCATION:
SUMMARY:Staff Professional Development
END:VEVENT
END:VCALENDAR
