BEGIN:VCALENDAR
VERSION:2.0
PRODID:-//tandcschool.org//NONSGML kigkonsult.se iCalcreator 2.30.10//
CALSCALE:GREGORIAN
METHOD:PUBLISH
UID:77d2728c-1802-4de3-9707-0d9ecc7976d8
X-WR-CALDESC:
X-WR-RELCALID:4296f86d3d402f1f698a35c5ddf6ffd4
X-WR-TIMEZONE:America/Chicago
BEGIN:VTIMEZONE
TZID:America/Chicago
BEGIN:STANDARD
TZNAME:CST
DTSTART:20221106T020000
TZOFFSETFROM:-0500
TZOFFSETTO:-0600
RDATE:20231105T020000
RDATE:20241103T020000
END:STANDARD
BEGIN:DAYLIGHT
TZNAME:CDT
DTSTART:20230312T020000
TZOFFSETFROM:-0600
TZOFFSETTO:-0500
RDATE:20240310T020000
RDATE:20250309T020000
END:DAYLIGHT
END:VTIMEZONE
BEGIN:VEVENT
UID:a0121f9a-7263-4069-9fc3-be61844c6fa4
DTSTAMP:20260424T100558Z
DESCRIPTION:
DTSTART;TZID=America/Chicago:20231102T150000
DTEND;TZID=America/Chicago:20231102T163000
LOCATION:
SUMMARY:Basketball Practice
END:VEVENT
END:VCALENDAR
