BEGIN:VCALENDAR
VERSION:2.0
PRODID:-//tandcschool.org//NONSGML kigkonsult.se iCalcreator 2.30.10//
CALSCALE:GREGORIAN
METHOD:PUBLISH
UID:ccb66477-571b-4d49-b071-1057459bd8c8
X-WR-CALDESC:
X-WR-RELCALID:422010d0aca508ccb93115ed2ad7ebe5
X-WR-TIMEZONE:America/Chicago
BEGIN:VTIMEZONE
TZID:America/Chicago
BEGIN:STANDARD
TZNAME:CST
DTSTART:20221106T020000
TZOFFSETFROM:-0500
TZOFFSETTO:-0600
RDATE:20231105T020000
RDATE:20241103T020000
END:STANDARD
BEGIN:DAYLIGHT
TZNAME:CDT
DTSTART:20230312T020000
TZOFFSETFROM:-0600
TZOFFSETTO:-0500
RDATE:20240310T020000
RDATE:20250309T020000
END:DAYLIGHT
END:VTIMEZONE
BEGIN:VEVENT
UID:4506ccf8-44bb-46f7-a7a5-8bdb9f392544
DTSTAMP:20260424T102325Z
DESCRIPTION:
DTSTART;TZID=America/Chicago:20231102T151500
DTEND;TZID=America/Chicago:20231102T160000
LOCATION:
SUMMARY:Band
END:VEVENT
END:VCALENDAR
