BEGIN:VCALENDAR
VERSION:2.0
PRODID:-//tandcschool.org//NONSGML kigkonsult.se iCalcreator 2.30.10//
CALSCALE:GREGORIAN
METHOD:PUBLISH
UID:4bca57d8-ebc1-4dc6-926b-3b10231df657
X-WR-CALDESC:
X-WR-RELCALID:b5a942fac039357b99ac7b03b9d8742c
X-WR-TIMEZONE:America/Chicago
BEGIN:VTIMEZONE
TZID:America/Chicago
BEGIN:STANDARD
TZNAME:CST
DTSTART:20221106T020000
TZOFFSETFROM:-0500
TZOFFSETTO:-0600
RDATE:20231105T020000
RDATE:20241103T020000
END:STANDARD
BEGIN:DAYLIGHT
TZNAME:CDT
DTSTART:20230312T020000
TZOFFSETFROM:-0600
TZOFFSETTO:-0500
RDATE:20240310T020000
RDATE:20250309T020000
END:DAYLIGHT
END:VTIMEZONE
BEGIN:VEVENT
UID:2fe05d7e-5a67-447a-8fbf-951a446224f8
DTSTAMP:20260424T113335Z
DESCRIPTION:
DTSTART;TZID=America/Chicago:20231031T150000
DTEND;TZID=America/Chicago:20231031T163000
LOCATION:
SUMMARY:Basketball Practice
END:VEVENT
END:VCALENDAR
