BEGIN:VCALENDAR
VERSION:2.0
PRODID:-//tandcschool.org//NONSGML kigkonsult.se iCalcreator 2.30.10//
CALSCALE:GREGORIAN
METHOD:PUBLISH
UID:4855cf28-e3c2-492b-af2b-3820211b310f
X-WR-CALDESC:
X-WR-RELCALID:02436fabd6fc31e44a69b39eaed4ac36
X-WR-TIMEZONE:America/Chicago
BEGIN:VTIMEZONE
TZID:America/Chicago
BEGIN:STANDARD
TZNAME:CST
DTSTART:20221106T020000
TZOFFSETFROM:-0500
TZOFFSETTO:-0600
RDATE:20231105T020000
RDATE:20241103T020000
END:STANDARD
BEGIN:DAYLIGHT
TZNAME:CDT
DTSTART:20230312T020000
TZOFFSETFROM:-0600
TZOFFSETTO:-0500
RDATE:20240310T020000
RDATE:20250309T020000
END:DAYLIGHT
END:VTIMEZONE
BEGIN:VEVENT
UID:04e8ae27-6484-4f49-b33c-68d321dc7348
DTSTAMP:20260424T113514Z
DESCRIPTION:
DTSTART;TZID=America/Chicago:20231031T153000
DTEND;TZID=America/Chicago:20231031T163000
LOCATION:
SUMMARY:Cooking Class B
END:VEVENT
END:VCALENDAR
