BEGIN:VCALENDAR
VERSION:2.0
PRODID:-//tandcschool.org//NONSGML kigkonsult.se iCalcreator 2.30.10//
CALSCALE:GREGORIAN
METHOD:PUBLISH
UID:628f5955-4622-4fb5-9d39-b1bda3fa7fad
X-WR-CALDESC:
X-WR-RELCALID:30cb8b1747e9c97b365a6bfd66babdaf
X-WR-TIMEZONE:America/Chicago
BEGIN:VTIMEZONE
TZID:America/Chicago
BEGIN:STANDARD
TZNAME:CST
DTSTART:20221106T020000
TZOFFSETFROM:-0500
TZOFFSETTO:-0600
RDATE:20231105T020000
RDATE:20241103T020000
END:STANDARD
BEGIN:DAYLIGHT
TZNAME:CDT
DTSTART:20230312T020000
TZOFFSETFROM:-0600
TZOFFSETTO:-0500
RDATE:20240310T020000
RDATE:20250309T020000
END:DAYLIGHT
END:VTIMEZONE
BEGIN:VEVENT
UID:5634d486-23f1-4ff8-966e-5b7ba502f2b3
DTSTAMP:20260424T114803Z
DESCRIPTION:
DTSTART;TZID=America/Chicago:20231031T152000
DTEND;TZID=America/Chicago:20231031T160000
LOCATION:
SUMMARY:LS Lego Club
END:VEVENT
END:VCALENDAR
