BEGIN:VCALENDAR
VERSION:2.0
PRODID:-//tandcschool.org//NONSGML kigkonsult.se iCalcreator 2.30.10//
CALSCALE:GREGORIAN
METHOD:PUBLISH
UID:00013f36-e443-4b9c-9f50-6279fc2e78be
X-WR-CALDESC:
X-WR-RELCALID:183c20c11801fd17d50b3328a17b7159
X-WR-TIMEZONE:America/Chicago
BEGIN:VTIMEZONE
TZID:America/Chicago
BEGIN:STANDARD
TZNAME:CST
DTSTART:20221106T020000
TZOFFSETFROM:-0500
TZOFFSETTO:-0600
RDATE:20231105T020000
RDATE:20241103T020000
END:STANDARD
BEGIN:DAYLIGHT
TZNAME:CDT
DTSTART:20230312T020000
TZOFFSETFROM:-0600
TZOFFSETTO:-0500
RDATE:20240310T020000
RDATE:20250309T020000
END:DAYLIGHT
END:VTIMEZONE
BEGIN:VEVENT
UID:9048267a-a7a3-4c9d-b169-9157864650df
DTSTAMP:20260424T113319Z
DESCRIPTION:
DTSTART;TZID=America/Chicago:20231030T000000
DTEND;TZID=America/Chicago:20231030T235900
LOCATION:
SUMMARY:ACT Testing- Seniors Starts
END:VEVENT
END:VCALENDAR
