BEGIN:VCALENDAR
VERSION:2.0
PRODID:-//tandcschool.org//NONSGML kigkonsult.se iCalcreator 2.30.10//
CALSCALE:GREGORIAN
METHOD:PUBLISH
UID:55243905-cc5d-411f-b869-decc3e2ad9cb
X-WR-CALDESC:
X-WR-RELCALID:8345ccfc35b09ad751f412b13bdf5aee
X-WR-TIMEZONE:America/Chicago
BEGIN:VTIMEZONE
TZID:America/Chicago
BEGIN:STANDARD
TZNAME:CST
DTSTART:20221106T020000
TZOFFSETFROM:-0500
TZOFFSETTO:-0600
RDATE:20231105T020000
RDATE:20241103T020000
END:STANDARD
BEGIN:DAYLIGHT
TZNAME:CDT
DTSTART:20230312T020000
TZOFFSETFROM:-0600
TZOFFSETTO:-0500
RDATE:20240310T020000
RDATE:20250309T020000
END:DAYLIGHT
END:VTIMEZONE
BEGIN:VEVENT
UID:b926633f-5ea8-476e-9f93-e9ce497c2b30
DTSTAMP:20260424T113519Z
DESCRIPTION:
DTSTART;TZID=America/Chicago:20231030T153000
DTEND;TZID=America/Chicago:20231030T163000
LOCATION:
SUMMARY:Cooking Class A
END:VEVENT
END:VCALENDAR
