BEGIN:VCALENDAR
VERSION:2.0
PRODID:-//tandcschool.org//NONSGML kigkonsult.se iCalcreator 2.30.10//
CALSCALE:GREGORIAN
METHOD:PUBLISH
UID:6baac08c-ec37-4d5c-82ec-4d522a633e06
X-WR-CALDESC:
X-WR-RELCALID:7e500b34ed88ce41c5cc160d5802ebe5
X-WR-TIMEZONE:America/Chicago
BEGIN:VTIMEZONE
TZID:America/Chicago
BEGIN:STANDARD
TZNAME:CST
DTSTART:20221106T020000
TZOFFSETFROM:-0500
TZOFFSETTO:-0600
RDATE:20231105T020000
RDATE:20241103T020000
END:STANDARD
BEGIN:DAYLIGHT
TZNAME:CDT
DTSTART:20230312T020000
TZOFFSETFROM:-0600
TZOFFSETTO:-0500
RDATE:20240310T020000
RDATE:20250309T020000
END:DAYLIGHT
END:VTIMEZONE
BEGIN:VEVENT
UID:6a49f892-fffb-4a26-b357-6b6a678fe1b5
DTSTAMP:20260424T121205Z
DESCRIPTION:
DTSTART;TZID=America/Chicago:20231030T150000
DTEND;TZID=America/Chicago:20231030T154500
LOCATION:
SUMMARY:Bible Club
END:VEVENT
END:VCALENDAR
