BEGIN:VCALENDAR
VERSION:2.0
PRODID:-//tandcschool.org//NONSGML kigkonsult.se iCalcreator 2.30.10//
CALSCALE:GREGORIAN
METHOD:PUBLISH
UID:1d99c874-ad4c-4a97-9646-9f508077119b
X-WR-CALDESC:
X-WR-RELCALID:5a4eb16cbae8f148e82e6559274226a5
X-WR-TIMEZONE:America/Chicago
BEGIN:VTIMEZONE
TZID:America/Chicago
BEGIN:STANDARD
TZNAME:CST
DTSTART:20221106T020000
TZOFFSETFROM:-0500
TZOFFSETTO:-0600
RDATE:20231105T020000
RDATE:20241103T020000
END:STANDARD
BEGIN:DAYLIGHT
TZNAME:CDT
DTSTART:20230312T020000
TZOFFSETFROM:-0600
TZOFFSETTO:-0500
RDATE:20240310T020000
RDATE:20250309T020000
END:DAYLIGHT
END:VTIMEZONE
BEGIN:VEVENT
UID:aacd16cd-8813-4897-8074-194f7c7ee0ed
DTSTAMP:20260424T121205Z
DESCRIPTION:
DTSTART;TZID=America/Chicago:20231028T180000
DTEND;TZID=America/Chicago:20231028T200000
LOCATION:
SUMMARY:US Astronomy Club Family Night
END:VEVENT
END:VCALENDAR
