BEGIN:VCALENDAR
VERSION:2.0
PRODID:-//tandcschool.org//NONSGML kigkonsult.se iCalcreator 2.30.10//
CALSCALE:GREGORIAN
METHOD:PUBLISH
UID:f80d9053-d442-4218-abb2-e495d7580859
X-WR-CALDESC:
X-WR-RELCALID:d01f09b0eb378f236e2bf610dcb43bfd
X-WR-TIMEZONE:America/Chicago
BEGIN:VTIMEZONE
TZID:America/Chicago
BEGIN:STANDARD
TZNAME:CST
DTSTART:20221106T020000
TZOFFSETFROM:-0500
TZOFFSETTO:-0600
RDATE:20231105T020000
RDATE:20241103T020000
END:STANDARD
BEGIN:DAYLIGHT
TZNAME:CDT
DTSTART:20230312T020000
TZOFFSETFROM:-0600
TZOFFSETTO:-0500
RDATE:20240310T020000
RDATE:20250309T020000
END:DAYLIGHT
END:VTIMEZONE
BEGIN:VEVENT
UID:1774c6a3-ab37-4557-8541-7e5b110f654a
DTSTAMP:20260424T114143Z
DESCRIPTION:
DTSTART;TZID=America/Chicago:20231026T140000
DTEND;TZID=America/Chicago:20231026T143000
LOCATION:
SUMMARY:Jostens Presentation for JR's and SR's
END:VEVENT
END:VCALENDAR
