BEGIN:VCALENDAR
VERSION:2.0
PRODID:-//tandcschool.org//NONSGML kigkonsult.se iCalcreator 2.30.10//
CALSCALE:GREGORIAN
METHOD:PUBLISH
UID:cd8ac173-4b79-4a70-9a39-e89430293c19
X-WR-CALDESC:
X-WR-RELCALID:78c4f397ffd7a6168e76c3d1055c0a30
X-WR-TIMEZONE:America/Chicago
BEGIN:VTIMEZONE
TZID:America/Chicago
BEGIN:STANDARD
TZNAME:CST
DTSTART:20221106T020000
TZOFFSETFROM:-0500
TZOFFSETTO:-0600
RDATE:20231105T020000
RDATE:20241103T020000
END:STANDARD
BEGIN:DAYLIGHT
TZNAME:CDT
DTSTART:20230312T020000
TZOFFSETFROM:-0600
TZOFFSETTO:-0500
RDATE:20240310T020000
RDATE:20250309T020000
END:DAYLIGHT
END:VTIMEZONE
BEGIN:VEVENT
UID:41e06c8d-652b-4bc5-b5f6-20d7e6ed3450
DTSTAMP:20260424T113320Z
DESCRIPTION:
DTSTART;TZID=America/Chicago:20231026T150000
DTEND;TZID=America/Chicago:20231026T163000
LOCATION:
SUMMARY:Basketball Practice
END:VEVENT
END:VCALENDAR
