BEGIN:VCALENDAR
VERSION:2.0
PRODID:-//tandcschool.org//NONSGML kigkonsult.se iCalcreator 2.30.10//
CALSCALE:GREGORIAN
METHOD:PUBLISH
UID:901069c9-c67c-4f70-81e1-705e2ae6231a
X-WR-CALDESC:
X-WR-RELCALID:0433a3f36fbdb82960a5d8c85700c53c
X-WR-TIMEZONE:America/Chicago
BEGIN:VTIMEZONE
TZID:America/Chicago
BEGIN:STANDARD
TZNAME:CST
DTSTART:20221106T020000
TZOFFSETFROM:-0500
TZOFFSETTO:-0600
RDATE:20231105T020000
RDATE:20241103T020000
END:STANDARD
BEGIN:DAYLIGHT
TZNAME:CDT
DTSTART:20230312T020000
TZOFFSETFROM:-0600
TZOFFSETTO:-0500
RDATE:20240310T020000
RDATE:20250309T020000
END:DAYLIGHT
END:VTIMEZONE
BEGIN:VEVENT
UID:260904e4-72bc-4dbb-829b-69a27adc5c2e
DTSTAMP:20260424T114210Z
DESCRIPTION:
DTSTART;TZID=America/Chicago:20231026T152000
DTEND;TZID=America/Chicago:20231026T160000
LOCATION:
SUMMARY:LS Running Club
END:VEVENT
END:VCALENDAR
