BEGIN:VCALENDAR
VERSION:2.0
PRODID:-//tandcschool.org//NONSGML kigkonsult.se iCalcreator 2.30.10//
CALSCALE:GREGORIAN
METHOD:PUBLISH
UID:5cf897d6-6439-4cd0-8e75-bfc2a83e2a54
X-WR-CALDESC:
X-WR-RELCALID:6cd4b6f03317b6fba6ff997aeb06a375
X-WR-TIMEZONE:America/Chicago
BEGIN:VTIMEZONE
TZID:America/Chicago
BEGIN:STANDARD
TZNAME:CST
DTSTART:20221106T020000
TZOFFSETFROM:-0500
TZOFFSETTO:-0600
RDATE:20231105T020000
RDATE:20241103T020000
END:STANDARD
BEGIN:DAYLIGHT
TZNAME:CDT
DTSTART:20230312T020000
TZOFFSETFROM:-0600
TZOFFSETTO:-0500
RDATE:20240310T020000
RDATE:20250309T020000
END:DAYLIGHT
END:VTIMEZONE
BEGIN:VEVENT
UID:17001976-7933-4606-8025-e287d556c7d4
DTSTAMP:20260424T113302Z
DESCRIPTION:
DTSTART;TZID=America/Chicago:20231025T000000
DTEND;TZID=America/Chicago:20231025T235900
LOCATION:
SUMMARY:MS/HS Virtual Day
END:VEVENT
END:VCALENDAR
