BEGIN:VCALENDAR
VERSION:2.0
PRODID:-//tandcschool.org//NONSGML kigkonsult.se iCalcreator 2.30.10//
CALSCALE:GREGORIAN
METHOD:PUBLISH
UID:0e0a1290-647e-4280-8501-ca42ca2ed317
X-WR-CALDESC:
X-WR-RELCALID:c22c27fd1220a1acf07fc36cbec7a61a
X-WR-TIMEZONE:America/Chicago
BEGIN:VTIMEZONE
TZID:America/Chicago
BEGIN:STANDARD
TZNAME:CST
DTSTART:20221106T020000
TZOFFSETFROM:-0500
TZOFFSETTO:-0600
RDATE:20231105T020000
RDATE:20241103T020000
END:STANDARD
BEGIN:DAYLIGHT
TZNAME:CDT
DTSTART:20230312T020000
TZOFFSETFROM:-0600
TZOFFSETTO:-0500
RDATE:20240310T020000
RDATE:20250309T020000
END:DAYLIGHT
END:VTIMEZONE
BEGIN:VEVENT
UID:d0210b66-c7a5-440a-a6bf-eece61dbae22
DTSTAMP:20260424T113311Z
DESCRIPTION:
DTSTART;TZID=America/Chicago:20231024T170000
DTEND;TZID=America/Chicago:20231024T180000
LOCATION:
SUMMARY:Parent Group
END:VEVENT
END:VCALENDAR
