BEGIN:VCALENDAR
VERSION:2.0
PRODID:-//tandcschool.org//NONSGML kigkonsult.se iCalcreator 2.30.10//
CALSCALE:GREGORIAN
METHOD:PUBLISH
UID:fa689fed-a670-4ab3-9cfd-611350e2e78c
X-WR-CALDESC:
X-WR-RELCALID:46488f2a3444e879d7784e126872dde3
X-WR-TIMEZONE:America/Chicago
BEGIN:VTIMEZONE
TZID:America/Chicago
BEGIN:STANDARD
TZNAME:CST
DTSTART:20221106T020000
TZOFFSETFROM:-0500
TZOFFSETTO:-0600
RDATE:20231105T020000
RDATE:20241103T020000
END:STANDARD
BEGIN:DAYLIGHT
TZNAME:CDT
DTSTART:20230312T020000
TZOFFSETFROM:-0600
TZOFFSETTO:-0500
RDATE:20240310T020000
RDATE:20250309T020000
END:DAYLIGHT
END:VTIMEZONE
BEGIN:VEVENT
UID:f72db10f-3798-4276-8d75-4cd53c59eadc
DTSTAMP:20260424T121206Z
DESCRIPTION:
DTSTART;TZID=America/Chicago:20231024T153000
DTEND;TZID=America/Chicago:20231024T163000
LOCATION:
SUMMARY:Cooking Class B
END:VEVENT
END:VCALENDAR
