BEGIN:VCALENDAR
VERSION:2.0
PRODID:-//tandcschool.org//NONSGML kigkonsult.se iCalcreator 2.30.10//
CALSCALE:GREGORIAN
METHOD:PUBLISH
UID:8222cf16-dcff-4f92-8522-256058e30a7d
X-WR-CALDESC:
X-WR-RELCALID:b42a8be48bb13fddb75b8dad1c00524a
X-WR-TIMEZONE:America/Chicago
BEGIN:VTIMEZONE
TZID:America/Chicago
BEGIN:STANDARD
TZNAME:CST
DTSTART:20221106T020000
TZOFFSETFROM:-0500
TZOFFSETTO:-0600
RDATE:20231105T020000
RDATE:20241103T020000
END:STANDARD
BEGIN:DAYLIGHT
TZNAME:CDT
DTSTART:20230312T020000
TZOFFSETFROM:-0600
TZOFFSETTO:-0500
RDATE:20240310T020000
RDATE:20250309T020000
END:DAYLIGHT
END:VTIMEZONE
BEGIN:VEVENT
UID:cf3daced-4da4-4f81-b455-b972e330f85c
DTSTAMP:20260424T120520Z
DESCRIPTION:
DTSTART;TZID=America/Chicago:20231024T152000
DTEND;TZID=America/Chicago:20231024T160000
LOCATION:
SUMMARY:LS Lego Club
END:VEVENT
END:VCALENDAR
