BEGIN:VCALENDAR
VERSION:2.0
PRODID:-//tandcschool.org//NONSGML kigkonsult.se iCalcreator 2.30.10//
CALSCALE:GREGORIAN
METHOD:PUBLISH
UID:3f3d79c0-2e57-4163-97a7-1f9c94d0b50b
X-WR-CALDESC:
X-WR-RELCALID:2db401ad093881fe6aefbd697532f146
X-WR-TIMEZONE:America/Chicago
BEGIN:VTIMEZONE
TZID:America/Chicago
BEGIN:STANDARD
TZNAME:CST
DTSTART:20221106T020000
TZOFFSETFROM:-0500
TZOFFSETTO:-0600
RDATE:20231105T020000
RDATE:20241103T020000
END:STANDARD
BEGIN:DAYLIGHT
TZNAME:CDT
DTSTART:20230312T020000
TZOFFSETFROM:-0600
TZOFFSETTO:-0500
RDATE:20240310T020000
RDATE:20250309T020000
END:DAYLIGHT
END:VTIMEZONE
BEGIN:VEVENT
UID:87549f6b-a89e-40f9-952c-4608473e1b33
DTSTAMP:20260424T115927Z
DESCRIPTION:
DTSTART;TZID=America/Chicago:20231024T150000
DTEND;TZID=America/Chicago:20231024T154500
LOCATION:
SUMMARY:MS Lego Club
END:VEVENT
END:VCALENDAR
