BEGIN:VCALENDAR
VERSION:2.0
PRODID:-//tandcschool.org//NONSGML kigkonsult.se iCalcreator 2.30.10//
CALSCALE:GREGORIAN
METHOD:PUBLISH
UID:2551ca74-88bc-4060-9524-47b51a78934d
X-WR-CALDESC:
X-WR-RELCALID:6a4fda2b182678b01dc7d0f27c3bde65
X-WR-TIMEZONE:America/Chicago
BEGIN:VTIMEZONE
TZID:America/Chicago
BEGIN:STANDARD
TZNAME:CST
DTSTART:20221106T020000
TZOFFSETFROM:-0500
TZOFFSETTO:-0600
RDATE:20231105T020000
RDATE:20241103T020000
END:STANDARD
BEGIN:DAYLIGHT
TZNAME:CDT
DTSTART:20230312T020000
TZOFFSETFROM:-0600
TZOFFSETTO:-0500
RDATE:20240310T020000
RDATE:20250309T020000
END:DAYLIGHT
END:VTIMEZONE
BEGIN:VEVENT
UID:27a4756d-8826-4ea3-b848-eee6a2108f75
DTSTAMP:20260424T113317Z
DESCRIPTION:
DTSTART;TZID=America/Chicago:20231023T000000
DTEND;TZID=America/Chicago:20231027T235900
LOCATION:
SUMMARY:Red Ribbon Week
END:VEVENT
END:VCALENDAR
