BEGIN:VCALENDAR
VERSION:2.0
PRODID:-//tandcschool.org//NONSGML kigkonsult.se iCalcreator 2.30.10//
CALSCALE:GREGORIAN
METHOD:PUBLISH
UID:aab56275-181e-4ec2-9ea8-53c895a5e8c6
X-WR-CALDESC:
X-WR-RELCALID:ed02e2c7b665d7f3ca6836d51ce1c9a4
X-WR-TIMEZONE:America/Chicago
BEGIN:VTIMEZONE
TZID:America/Chicago
BEGIN:STANDARD
TZNAME:CST
DTSTART:20221106T020000
TZOFFSETFROM:-0500
TZOFFSETTO:-0600
RDATE:20231105T020000
RDATE:20241103T020000
END:STANDARD
BEGIN:DAYLIGHT
TZNAME:CDT
DTSTART:20230312T020000
TZOFFSETFROM:-0600
TZOFFSETTO:-0500
RDATE:20240310T020000
RDATE:20250309T020000
END:DAYLIGHT
END:VTIMEZONE
BEGIN:VEVENT
UID:7b23f004-b61e-452a-add8-bc1a6ac6f02f
DTSTAMP:20260424T113511Z
DESCRIPTION:
DTSTART;TZID=America/Chicago:20231023T153000
DTEND;TZID=America/Chicago:20231023T163000
LOCATION:
SUMMARY:Cooking Class A
END:VEVENT
END:VCALENDAR
