BEGIN:VCALENDAR
VERSION:2.0
PRODID:-//tandcschool.org//NONSGML kigkonsult.se iCalcreator 2.30.10//
CALSCALE:GREGORIAN
METHOD:PUBLISH
UID:8cb3dbda-4806-4111-90df-5202f09c0144
X-WR-CALDESC:
X-WR-RELCALID:5fb1aa6ad66cb3cb1cf11fbe4036439f
X-WR-TIMEZONE:America/Chicago
BEGIN:VTIMEZONE
TZID:America/Chicago
BEGIN:STANDARD
TZNAME:CST
DTSTART:20221106T020000
TZOFFSETFROM:-0500
TZOFFSETTO:-0600
RDATE:20231105T020000
RDATE:20241103T020000
END:STANDARD
BEGIN:DAYLIGHT
TZNAME:CDT
DTSTART:20230312T020000
TZOFFSETFROM:-0600
TZOFFSETTO:-0500
RDATE:20240310T020000
RDATE:20250309T020000
END:DAYLIGHT
END:VTIMEZONE
BEGIN:VEVENT
UID:09018e7a-4ade-4c46-b0f0-00199dfb0607
DTSTAMP:20260424T115456Z
DESCRIPTION:
DTSTART;TZID=America/Chicago:20231023T152000
DTEND;TZID=America/Chicago:20231023T160000
LOCATION:
SUMMARY:LS Art Club
END:VEVENT
END:VCALENDAR
