BEGIN:VCALENDAR
VERSION:2.0
PRODID:-//tandcschool.org//NONSGML kigkonsult.se iCalcreator 2.30.10//
CALSCALE:GREGORIAN
METHOD:PUBLISH
UID:a29eeac5-0c51-4b6a-b72a-8e5588e46c0e
X-WR-CALDESC:No School
X-WR-RELCALID:9d661922f55b8890071a99e1e83873c2
X-WR-TIMEZONE:America/Chicago
BEGIN:VTIMEZONE
TZID:America/Chicago
BEGIN:STANDARD
TZNAME:CST
DTSTART:20221106T020000
TZOFFSETFROM:-0500
TZOFFSETTO:-0600
RDATE:20231105T020000
RDATE:20241103T020000
END:STANDARD
BEGIN:DAYLIGHT
TZNAME:CDT
DTSTART:20230312T020000
TZOFFSETFROM:-0600
TZOFFSETTO:-0500
RDATE:20240310T020000
RDATE:20250309T020000
END:DAYLIGHT
END:VTIMEZONE
BEGIN:VEVENT
UID:bee9b835-5135-4840-97b8-6434658f6240
DTSTAMP:20260424T113131Z
DESCRIPTION:No School
DTSTART;TZID=America/Chicago:20231019T000000
DTEND;TZID=America/Chicago:20231020T235900
LOCATION:
SUMMARY:Fall Break
END:VEVENT
END:VCALENDAR
