BEGIN:VCALENDAR
VERSION:2.0
PRODID:-//tandcschool.org//NONSGML kigkonsult.se iCalcreator 2.30.10//
CALSCALE:GREGORIAN
METHOD:PUBLISH
UID:7e751fdc-5664-4768-85ba-ca8a5c2aac53
X-WR-CALDESC:
X-WR-RELCALID:ce09246d27a53bf0969af8509059b3c3
X-WR-TIMEZONE:America/Chicago
BEGIN:VTIMEZONE
TZID:America/Chicago
BEGIN:STANDARD
TZNAME:CST
DTSTART:20221106T020000
TZOFFSETFROM:-0500
TZOFFSETTO:-0600
RDATE:20231105T020000
RDATE:20241103T020000
END:STANDARD
BEGIN:DAYLIGHT
TZNAME:CDT
DTSTART:20230312T020000
TZOFFSETFROM:-0600
TZOFFSETTO:-0500
RDATE:20240310T020000
RDATE:20250309T020000
END:DAYLIGHT
END:VTIMEZONE
BEGIN:VEVENT
UID:11822356-b4b2-44a5-bb44-b06e7f4b656c
DTSTAMP:20260424T114144Z
DESCRIPTION:
DTSTART;TZID=America/Chicago:20231017T000000
DTEND;TZID=America/Chicago:20231017T235900
LOCATION:
SUMMARY:Blue & Gold Sausage Delivery
END:VEVENT
END:VCALENDAR
