BEGIN:VCALENDAR
VERSION:2.0
PRODID:-//tandcschool.org//NONSGML kigkonsult.se iCalcreator 2.30.10//
CALSCALE:GREGORIAN
METHOD:PUBLISH
UID:6e0274df-e753-4feb-a39f-85df6fb55ad9
X-WR-CALDESC:
X-WR-RELCALID:a2fe2867d6cb64ff9160fe1c66e4487e
X-WR-TIMEZONE:America/Chicago
BEGIN:VTIMEZONE
TZID:America/Chicago
BEGIN:STANDARD
TZNAME:CST
DTSTART:20221106T020000
TZOFFSETFROM:-0500
TZOFFSETTO:-0600
RDATE:20231105T020000
RDATE:20241103T020000
END:STANDARD
BEGIN:DAYLIGHT
TZNAME:CDT
DTSTART:20230312T020000
TZOFFSETFROM:-0600
TZOFFSETTO:-0500
RDATE:20240310T020000
RDATE:20250309T020000
END:DAYLIGHT
END:VTIMEZONE
BEGIN:VEVENT
UID:8a5bb5ce-0c04-4147-bc84-c8354645d234
DTSTAMP:20260424T113433Z
DESCRIPTION:
DTSTART;TZID=America/Chicago:20231017T153000
DTEND;TZID=America/Chicago:20231017T163000
LOCATION:
SUMMARY:Cooking Class B
END:VEVENT
END:VCALENDAR
