BEGIN:VCALENDAR
VERSION:2.0
PRODID:-//tandcschool.org//NONSGML kigkonsult.se iCalcreator 2.30.10//
CALSCALE:GREGORIAN
METHOD:PUBLISH
UID:dcba20d1-7dd1-4707-ab45-46b1baae4233
X-WR-CALDESC:
X-WR-RELCALID:30770a93bb21ce755dcc20fa3ead3ebd
X-WR-TIMEZONE:America/Chicago
BEGIN:VTIMEZONE
TZID:America/Chicago
BEGIN:STANDARD
TZNAME:CST
DTSTART:20221106T020000
TZOFFSETFROM:-0500
TZOFFSETTO:-0600
RDATE:20231105T020000
RDATE:20241103T020000
END:STANDARD
BEGIN:DAYLIGHT
TZNAME:CDT
DTSTART:20230312T020000
TZOFFSETFROM:-0600
TZOFFSETTO:-0500
RDATE:20240310T020000
RDATE:20250309T020000
END:DAYLIGHT
END:VTIMEZONE
BEGIN:VEVENT
UID:589002b9-170f-46eb-a09d-f17da3e3018e
DTSTAMP:20260424T113451Z
DESCRIPTION:
DTSTART;TZID=America/Chicago:20231013T000000
DTEND;TZID=America/Chicago:20231013T235900
LOCATION:
SUMMARY:Fiery Trails Hayride
END:VEVENT
END:VCALENDAR
