BEGIN:VCALENDAR
VERSION:2.0
PRODID:-//tandcschool.org//NONSGML kigkonsult.se iCalcreator 2.30.10//
CALSCALE:GREGORIAN
METHOD:PUBLISH
UID:79a434d4-3d8a-4956-a27b-07e9948daad3
X-WR-CALDESC:
X-WR-RELCALID:85dfbb990d08aed68ef05a8f040fb98d
X-WR-TIMEZONE:America/Chicago
BEGIN:VTIMEZONE
TZID:America/Chicago
BEGIN:STANDARD
TZNAME:CST
DTSTART:20221106T020000
TZOFFSETFROM:-0500
TZOFFSETTO:-0600
RDATE:20231105T020000
RDATE:20241103T020000
END:STANDARD
BEGIN:DAYLIGHT
TZNAME:CDT
DTSTART:20230312T020000
TZOFFSETFROM:-0600
TZOFFSETTO:-0500
RDATE:20240310T020000
RDATE:20250309T020000
END:DAYLIGHT
END:VTIMEZONE
BEGIN:VEVENT
UID:98088ea6-dae2-4f15-9d19-e661e6774bf9
DTSTAMP:20260424T121132Z
DESCRIPTION:
DTSTART;TZID=America/Chicago:20231013T150000
DTEND;TZID=America/Chicago:20231013T154500
LOCATION:
SUMMARY:E-Gaming Club B
END:VEVENT
END:VCALENDAR
