BEGIN:VCALENDAR
VERSION:2.0
PRODID:-//tandcschool.org//NONSGML kigkonsult.se iCalcreator 2.30.10//
CALSCALE:GREGORIAN
METHOD:PUBLISH
UID:391ec6e9-c123-4cc4-9b96-aadc5ce30ed6
X-WR-CALDESC:
X-WR-RELCALID:3687f0ef309f74d1ff21e54fbb557fbe
X-WR-TIMEZONE:America/Chicago
BEGIN:VTIMEZONE
TZID:America/Chicago
BEGIN:STANDARD
TZNAME:CST
DTSTART:20221106T020000
TZOFFSETFROM:-0500
TZOFFSETTO:-0600
RDATE:20231105T020000
RDATE:20241103T020000
END:STANDARD
BEGIN:DAYLIGHT
TZNAME:CDT
DTSTART:20230312T020000
TZOFFSETFROM:-0600
TZOFFSETTO:-0500
RDATE:20240310T020000
RDATE:20250309T020000
END:DAYLIGHT
END:VTIMEZONE
BEGIN:VEVENT
UID:cc70b044-8d28-47d0-86de-9cb7930c39ac
DTSTAMP:20260424T115752Z
DESCRIPTION:
DTSTART;TZID=America/Chicago:20231012T152000
DTEND;TZID=America/Chicago:20231012T160000
LOCATION:
SUMMARY:LS Running Club
END:VEVENT
END:VCALENDAR
