BEGIN:VCALENDAR
VERSION:2.0
PRODID:-//tandcschool.org//NONSGML kigkonsult.se iCalcreator 2.30.10//
CALSCALE:GREGORIAN
METHOD:PUBLISH
UID:8e7b74db-29ef-4364-bb96-c1bb33b34441
X-WR-CALDESC:
X-WR-RELCALID:963a2d4ee9726831396aea41caf1b6ae
X-WR-TIMEZONE:America/Chicago
BEGIN:VTIMEZONE
TZID:America/Chicago
BEGIN:STANDARD
TZNAME:CST
DTSTART:20221106T020000
TZOFFSETFROM:-0500
TZOFFSETTO:-0600
RDATE:20231105T020000
RDATE:20241103T020000
END:STANDARD
BEGIN:DAYLIGHT
TZNAME:CDT
DTSTART:20230312T020000
TZOFFSETFROM:-0600
TZOFFSETTO:-0500
RDATE:20240310T020000
RDATE:20250309T020000
END:DAYLIGHT
END:VTIMEZONE
BEGIN:VEVENT
UID:41090646-6c12-4875-bcd7-ab1691fc66ab
DTSTAMP:20260424T114000Z
DESCRIPTION:
DTSTART;TZID=America/Chicago:20231012T151500
DTEND;TZID=America/Chicago:20231012T160000
LOCATION:
SUMMARY:Band
END:VEVENT
END:VCALENDAR
