BEGIN:VCALENDAR
VERSION:2.0
PRODID:-//tandcschool.org//NONSGML kigkonsult.se iCalcreator 2.30.10//
CALSCALE:GREGORIAN
METHOD:PUBLISH
UID:8288ae81-0318-44c9-b813-902713a333b3
X-WR-CALDESC:
X-WR-RELCALID:c5c076508af15a6bea8b856ff50d3cf4
X-WR-TIMEZONE:America/Chicago
BEGIN:VTIMEZONE
TZID:America/Chicago
BEGIN:STANDARD
TZNAME:CST
DTSTART:20221106T020000
TZOFFSETFROM:-0500
TZOFFSETTO:-0600
RDATE:20231105T020000
RDATE:20241103T020000
END:STANDARD
BEGIN:DAYLIGHT
TZNAME:CDT
DTSTART:20230312T020000
TZOFFSETFROM:-0600
TZOFFSETTO:-0500
RDATE:20240310T020000
RDATE:20250309T020000
END:DAYLIGHT
END:VTIMEZONE
BEGIN:VEVENT
UID:09047852-b771-4ab4-acdc-b6dddb18aaa2
DTSTAMP:20260424T115711Z
DESCRIPTION:
DTSTART;TZID=America/Chicago:20231012T150000
DTEND;TZID=America/Chicago:20231012T154500
LOCATION:
SUMMARY:MS Running Club
END:VEVENT
END:VCALENDAR
