BEGIN:VCALENDAR
VERSION:2.0
PRODID:-//tandcschool.org//NONSGML kigkonsult.se iCalcreator 2.30.10//
CALSCALE:GREGORIAN
METHOD:PUBLISH
UID:0cd5c75d-bf8c-45bf-bf30-37926d822791
X-WR-CALDESC:
X-WR-RELCALID:314f304bb6df9638e91abfaac2c5a612
X-WR-TIMEZONE:America/Chicago
BEGIN:VTIMEZONE
TZID:America/Chicago
BEGIN:STANDARD
TZNAME:CST
DTSTART:20221106T020000
TZOFFSETFROM:-0500
TZOFFSETTO:-0600
RDATE:20231105T020000
RDATE:20241103T020000
END:STANDARD
BEGIN:DAYLIGHT
TZNAME:CDT
DTSTART:20230312T020000
TZOFFSETFROM:-0600
TZOFFSETTO:-0500
RDATE:20240310T020000
RDATE:20250309T020000
END:DAYLIGHT
END:VTIMEZONE
BEGIN:VEVENT
UID:d128ab56-5dec-4370-b727-bbe505a88750
DTSTAMP:20260424T113845Z
DESCRIPTION:
DTSTART;TZID=America/Chicago:20231011T152000
DTEND;TZID=America/Chicago:20231011T160000
LOCATION:
SUMMARY:Production Club B
END:VEVENT
END:VCALENDAR
