BEGIN:VCALENDAR
VERSION:2.0
PRODID:-//tandcschool.org//NONSGML kigkonsult.se iCalcreator 2.30.10//
CALSCALE:GREGORIAN
METHOD:PUBLISH
UID:e2654a41-7da3-451e-b379-4c4f257ea740
X-WR-CALDESC:
X-WR-RELCALID:c054fe6615a0f62a4329d94a500364e9
X-WR-TIMEZONE:America/Chicago
BEGIN:VTIMEZONE
TZID:America/Chicago
BEGIN:STANDARD
TZNAME:CST
DTSTART:20221106T020000
TZOFFSETFROM:-0500
TZOFFSETTO:-0600
RDATE:20231105T020000
RDATE:20241103T020000
END:STANDARD
BEGIN:DAYLIGHT
TZNAME:CDT
DTSTART:20230312T020000
TZOFFSETFROM:-0600
TZOFFSETTO:-0500
RDATE:20240310T020000
RDATE:20250309T020000
END:DAYLIGHT
END:VTIMEZONE
BEGIN:VEVENT
UID:8e1911eb-4642-4180-8a33-3c33e24ce373
DTSTAMP:20260424T113134Z
DESCRIPTION:
DTSTART;TZID=America/Chicago:20231009T000000
DTEND;TZID=America/Chicago:20231011T235900
LOCATION:
SUMMARY:Pre-ACT Testing
END:VEVENT
END:VCALENDAR
