BEGIN:VCALENDAR
VERSION:2.0
PRODID:-//tandcschool.org//NONSGML kigkonsult.se iCalcreator 2.30.10//
CALSCALE:GREGORIAN
METHOD:PUBLISH
UID:3aef98d0-3c63-4dbd-808d-a409c37a1d12
X-WR-CALDESC:
X-WR-RELCALID:0454c2ba56502ae95d9dafa833facc1e
X-WR-TIMEZONE:America/Chicago
BEGIN:VTIMEZONE
TZID:America/Chicago
BEGIN:STANDARD
TZNAME:CST
DTSTART:20221106T020000
TZOFFSETFROM:-0500
TZOFFSETTO:-0600
RDATE:20231105T020000
RDATE:20241103T020000
END:STANDARD
BEGIN:DAYLIGHT
TZNAME:CDT
DTSTART:20230312T020000
TZOFFSETFROM:-0600
TZOFFSETTO:-0500
RDATE:20240310T020000
RDATE:20250309T020000
END:DAYLIGHT
END:VTIMEZONE
BEGIN:VEVENT
UID:d26418af-0bb1-494f-b49b-c1814db44edc
DTSTAMP:20260424T114137Z
DESCRIPTION:
DTSTART;TZID=America/Chicago:20231009T150000
DTEND;TZID=America/Chicago:20231009T154500
LOCATION:
SUMMARY:Chess Club
END:VEVENT
END:VCALENDAR
