BEGIN:VCALENDAR
VERSION:2.0
PRODID:-//tandcschool.org//NONSGML kigkonsult.se iCalcreator 2.30.10//
CALSCALE:GREGORIAN
METHOD:PUBLISH
UID:9b33a65c-bd10-49d3-9414-7ecb0a27f089
X-WR-CALDESC:
X-WR-RELCALID:a1148162ddecd15d434b7411e5d3fbdf
X-WR-TIMEZONE:America/Chicago
BEGIN:VTIMEZONE
TZID:America/Chicago
BEGIN:STANDARD
TZNAME:CST
DTSTART:20221106T020000
TZOFFSETFROM:-0500
TZOFFSETTO:-0600
RDATE:20231105T020000
RDATE:20241103T020000
END:STANDARD
BEGIN:DAYLIGHT
TZNAME:CDT
DTSTART:20230312T020000
TZOFFSETFROM:-0600
TZOFFSETTO:-0500
RDATE:20240310T020000
RDATE:20250309T020000
END:DAYLIGHT
END:VTIMEZONE
BEGIN:VEVENT
UID:6bc66fee-60ff-41ce-989f-1ff7b2d0b2ce
DTSTAMP:20260424T113615Z
DESCRIPTION:
DTSTART;TZID=America/Chicago:20231009T150000
DTEND;TZID=America/Chicago:20231009T160000
LOCATION:
SUMMARY:Cheer
END:VEVENT
END:VCALENDAR
