BEGIN:VCALENDAR
VERSION:2.0
PRODID:-//tandcschool.org//NONSGML kigkonsult.se iCalcreator 2.30.10//
CALSCALE:GREGORIAN
METHOD:PUBLISH
UID:18acbc4c-ebbc-4134-8022-dfdd21b7e198
X-WR-CALDESC:
X-WR-RELCALID:f00441c3fd1bfdd70bee5b720749a662
X-WR-TIMEZONE:America/Chicago
BEGIN:VTIMEZONE
TZID:America/Chicago
BEGIN:STANDARD
TZNAME:CST
DTSTART:20221106T020000
TZOFFSETFROM:-0500
TZOFFSETTO:-0600
RDATE:20231105T020000
RDATE:20241103T020000
END:STANDARD
BEGIN:DAYLIGHT
TZNAME:CDT
DTSTART:20230312T020000
TZOFFSETFROM:-0600
TZOFFSETTO:-0500
RDATE:20240310T020000
RDATE:20250309T020000
END:DAYLIGHT
END:VTIMEZONE
BEGIN:VEVENT
UID:2b57bb38-5124-4998-a279-d1176b3e3f43
DTSTAMP:20260424T113620Z
DESCRIPTION:
DTSTART;TZID=America/Chicago:20231006T000000
DTEND;TZID=America/Chicago:20231006T235900
LOCATION:
SUMMARY:Fast Food Friday
END:VEVENT
END:VCALENDAR
