BEGIN:VCALENDAR
VERSION:2.0
PRODID:-//tandcschool.org//NONSGML kigkonsult.se iCalcreator 2.30.10//
CALSCALE:GREGORIAN
METHOD:PUBLISH
UID:834dfd25-68d0-4c5b-a5e7-478e6961f0e8
X-WR-CALDESC:
X-WR-RELCALID:30509beae50b1c31bc3ed6cda8d2b581
X-WR-TIMEZONE:America/Chicago
BEGIN:VTIMEZONE
TZID:America/Chicago
BEGIN:STANDARD
TZNAME:CST
DTSTART:20221106T020000
TZOFFSETFROM:-0500
TZOFFSETTO:-0600
RDATE:20231105T020000
RDATE:20241103T020000
END:STANDARD
BEGIN:DAYLIGHT
TZNAME:CDT
DTSTART:20230312T020000
TZOFFSETFROM:-0600
TZOFFSETTO:-0500
RDATE:20240310T020000
RDATE:20250309T020000
END:DAYLIGHT
END:VTIMEZONE
BEGIN:VEVENT
UID:27daf956-f799-402e-9421-9d717d68a016
DTSTAMP:20260424T115457Z
DESCRIPTION:
DTSTART;TZID=America/Chicago:20231005T150000
DTEND;TZID=America/Chicago:20231005T154500
LOCATION:
SUMMARY:MS Running Club
END:VEVENT
END:VCALENDAR
