BEGIN:VCALENDAR
VERSION:2.0
PRODID:-//tandcschool.org//NONSGML kigkonsult.se iCalcreator 2.30.10//
CALSCALE:GREGORIAN
METHOD:PUBLISH
UID:ee73282e-be2b-4020-a865-fd1bbaa77888
X-WR-CALDESC:
X-WR-RELCALID:f40b528b644fce5eda6000e09664d2e7
X-WR-TIMEZONE:America/Chicago
BEGIN:VTIMEZONE
TZID:America/Chicago
BEGIN:STANDARD
TZNAME:CST
DTSTART:20221106T020000
TZOFFSETFROM:-0500
TZOFFSETTO:-0600
RDATE:20231105T020000
RDATE:20241103T020000
END:STANDARD
BEGIN:DAYLIGHT
TZNAME:CDT
DTSTART:20230312T020000
TZOFFSETFROM:-0600
TZOFFSETTO:-0500
RDATE:20240310T020000
RDATE:20250309T020000
END:DAYLIGHT
END:VTIMEZONE
BEGIN:VEVENT
UID:95ea10b2-f212-4f2b-878d-a3240678755c
DTSTAMP:20260424T113621Z
DESCRIPTION:
DTSTART;TZID=America/Chicago:20231004T150000
DTEND;TZID=America/Chicago:20231004T154500
LOCATION:
SUMMARY:MS Art Club
END:VEVENT
END:VCALENDAR
