BEGIN:VCALENDAR
VERSION:2.0
PRODID:-//tandcschool.org//NONSGML kigkonsult.se iCalcreator 2.30.10//
CALSCALE:GREGORIAN
METHOD:PUBLISH
UID:9da987af-f593-4bdd-b558-b6b05ebd6aaf
X-WR-CALDESC:
X-WR-RELCALID:bc4fe73286e5a240c333a03d47a2493e
X-WR-TIMEZONE:America/Chicago
BEGIN:VTIMEZONE
TZID:America/Chicago
BEGIN:STANDARD
TZNAME:CST
DTSTART:20221106T020000
TZOFFSETFROM:-0500
TZOFFSETTO:-0600
RDATE:20231105T020000
RDATE:20241103T020000
END:STANDARD
BEGIN:DAYLIGHT
TZNAME:CDT
DTSTART:20230312T020000
TZOFFSETFROM:-0600
TZOFFSETTO:-0500
RDATE:20240310T020000
RDATE:20250309T020000
END:DAYLIGHT
END:VTIMEZONE
BEGIN:VEVENT
UID:84afd487-cec3-4fa5-9cc8-02c3769e4b71
DTSTAMP:20260424T120442Z
DESCRIPTION:
DTSTART;TZID=America/Chicago:20231003T123000
DTEND;TZID=America/Chicago:20231003T143000
LOCATION:
SUMMARY:Astronomy Club/Planetarium
END:VEVENT
END:VCALENDAR
